BEGIN:VCALENDAR
VERSION:2.0
PRODID:-//Evolve Project - ECPv6.3.3.1//NONSGML v1.0//EN
CALSCALE:GREGORIAN
METHOD:PUBLISH
X-ORIGINAL-URL:https://evolveproject.org
X-WR-CALDESC:Events for Evolve Project
REFRESH-INTERVAL;VALUE=DURATION:PT1H
X-Robots-Tag:noindex
X-PUBLISHED-TTL:PT1H
BEGIN:VTIMEZONE
TZID:America/Chicago
BEGIN:DAYLIGHT
TZOFFSETFROM:-0600
TZOFFSETTO:-0500
TZNAME:CDT
DTSTART:20240310T080000
END:DAYLIGHT
BEGIN:STANDARD
TZOFFSETFROM:-0500
TZOFFSETTO:-0600
TZNAME:CST
DTSTART:20241103T070000
END:STANDARD
BEGIN:DAYLIGHT
TZOFFSETFROM:-0600
TZOFFSETTO:-0500
TZNAME:CDT
DTSTART:20250309T080000
END:DAYLIGHT
BEGIN:STANDARD
TZOFFSETFROM:-0500
TZOFFSETTO:-0600
TZNAME:CST
DTSTART:20251102T070000
END:STANDARD
END:VTIMEZONE
BEGIN:VEVENT
DTSTART;TZID=America/Chicago:20240828T110000
DTEND;TZID=America/Chicago:20240828T120000
DTSTAMP:20260425T083845
CREATED:20240408T162645Z
LAST-MODIFIED:20240828T153018Z
UID:1706-1724842800-1724846400@evolveproject.org
SUMMARY:Unleashing Creativity with AI: Art and Video in Libraries
DESCRIPTION:You may be thinking\, ok\, AI is just another buzzword that has superseded 3D printing\, VR\, and AR.    In this webinar we will be exploring some things you may not have heard about with AI as it relates to creating art and video.  More over\, we will show you some tools that make editing content easy. If that isn’t enough to wow you\, we will get hands on access to some of these sites to experiment.  Still not impressed? What about AI that can do language translation services on the fly for your library’s diverse population?  This isn’t about replacing human creativity; it’s about augmenting it\, making it accessible to all\, and transforming libraries into hubs of digital creativity and innovation. \n\n    \n\n		\n            \n                0\n                Shares
URL:https://evolveproject.org/event/unleashing-creativity-with-ai-art-and-video-in-libraries/
CATEGORIES:Webinar
END:VEVENT
BEGIN:VEVENT
DTSTART;TZID=America/Chicago:20250224T170000
DTEND;TZID=America/Chicago:20250224T190000
DTSTAMP:20260425T083845
CREATED:20250205T182014Z
LAST-MODIFIED:20250224T191213Z
UID:2545-1740416400-1740423600@evolveproject.org
SUMMARY:Harnessing the Power of AI: Practical Applications for Adults
DESCRIPTION:Explore the transformative potential of artificial intelligence with Brian Pichman in this engaging ses­sion designed to empower you with one of the latest tools. Brian will demystify AI\, showcasing its practical applications across various fields. Discover how AI can be a powerful tool in your arsenal\, from enhanc­ing business operations to improving daily life. Learn about the latest AI technologies\, how to implement them\, and the ethical considerations involved. This talk is perfect for anyone looking to understand and leverage AI for personal or professional growth. You will learn how to utilize AI to create an outline\, write a letter\, take meeting notes and organize them\, and how you can also use AI for fun such as creating a vacation itinerary. This class will meet in a computer lab so that you can have hands-on practice and experience working with artificial intelligence. \n\n    \n\n		\n            \n                0\n                Shares
URL:https://evolveproject.org/event/harnessing-the-power-of-ai-practical-applications-for-adults/
CATEGORIES:Workshop
END:VEVENT
BEGIN:VEVENT
DTSTART;TZID=America/Chicago:20250310T120000
DTEND;TZID=America/Chicago:20250310T140000
DTSTAMP:20260425T083845
CREATED:20250205T182014Z
LAST-MODIFIED:20250305T192749Z
UID:2546-1741608000-1741615200@evolveproject.org
SUMMARY:CyberSecurity for Business OwnerProtecting Against Malicious Actors
DESCRIPTION:Join Brian Pichman\, for an insightful session on cyber­security explicitly tailored for business owners. In this talk\, Brian will dive into the critical importance of safeguarding your business from malicious actors. Learn about the latest threats in the digital landscape and discover practical strategies to protect your sensitive data\, secure your network\, and prevent cyber-attacks. Leave this session with valuable knowledge on implementing robust security measures and creating a cyber-resilient business environment.  \n\n    \n\n		\n            \n                0\n                Shares
URL:https://evolveproject.org/event/cybersecurity-for-business-ownerprotecting-against-malicious-actors/
CATEGORIES:Workshop
END:VEVENT
BEGIN:VEVENT
DTSTART;TZID=America/Chicago:20250425T120000
DTEND;TZID=America/Chicago:20250425T130000
DTSTAMP:20260425T083845
CREATED:20250422T121149Z
LAST-MODIFIED:20250425T121141Z
UID:2762-1745582400-1745586000@evolveproject.org
SUMMARY:Uncharted Together:  Navigating AI’s New Frontiers in Libraries
DESCRIPTION:Journey into the heart of innovation where the collaborative spirit between information professionals\, technologists\, and researchers illuminates the path forward through AI’s uncharted territories.  Join Brian Pichman as we explore the the history of Artificial Intelligence\, how its evolved over the years\, and how its transforming today’s frontiers. We will explore a variety of tools and strategies that leverage AI including some new ideas that may enhance cataloging\, unlock personalized user experiences\, or pioneer new ways to access specialized research. As with any frontier exploration\, we will confront shared ethical challenges and explore how joint efforts can not only navigate but also shape AI’s impact on equitable access and information integrity in our libraries.  \n\n    \n\n		\n            \n                0\n                Shares
URL:https://evolveproject.org/event/uncharted-together-navigating-ais-new-frontiers-in-libraries/
CATEGORIES:Conference
END:VEVENT
BEGIN:VEVENT
DTSTART;TZID=America/Chicago:20250425T140000
DTEND;TZID=America/Chicago:20250425T150000
DTSTAMP:20260425T083845
CREATED:20250422T121149Z
LAST-MODIFIED:20250425T121141Z
UID:2763-1745589600-1745593200@evolveproject.org
SUMMARY:CES 2025:  Tech Trends and Gadgets for Libraries and Beyond
DESCRIPTION:Room 159 \nPresenter:  Brian Pichman\, Evolve Project \nJoin Brian Pichman\, Director of Strategic Innovation at Evolve Project\, for an insightful presentation about the Consumer Electronics Show (CES). This session will explore the cutting-edge technologies shaping the future of consumer electronics that was unveiled at CES. Brian will share his thoughts on the latest trends\, innovations\, and their implications for businesses and consumers. Attendees will better understand how these advancements can be leveraged to drive growth and innovation in their own organizations. Don’t miss this opportunity to stay ahead of the curve and be inspired by the possibilities of tomorrow’s technology today. \n\n    \n\n		\n            \n                0\n                Shares
URL:https://evolveproject.org/event/ces-2025-tech-trends-and-gadgets-for-libraries-and-beyond/
CATEGORIES:Conference
END:VEVENT
BEGIN:VEVENT
DTSTART;TZID=America/Chicago:20250430T180000
DTEND;TZID=America/Chicago:20250430T190000
DTSTAMP:20260425T083845
CREATED:20250422T121149Z
LAST-MODIFIED:20250430T121140Z
UID:2764-1746036000-1746039600@evolveproject.org
SUMMARY:AI in Libraries: Unlocking Innovation\, Access & Engagement
DESCRIPTION:AI is no longer just a futuristic concept—it is actively shaping how we access\, manage\, and interact with information. Libraries\, as community anchors and knowledge hubs\, are uniquely positioned to harness AI to improve services\, enhance discovery\, and engage with their communities in new and dynamic ways. Together\, we will explore the evolving role of AI in public libraries highlighting real-world applications such as AI-powered research assistance\, smart cataloguing\, interactive chatbots\, and automated knowledge curation \nKey Takeaways: \n\nDemystifying AI – What it is\, how it works\, and why it matters for libraries\nPractical AI Applications – Case studies of libraries successfully using AI\nAI & Digital Equity – Ensuring fair and ethical access to AI-driven resources\nInteractive Demonstrations – Live AI-powered tools in action\nFuture-Proofing Libraries – How to integrate AI into long-term library strategies \n\nhttps://www.plnz.org.nz/National-Forum-Programme-2025 \n\n    \n\n		\n            \n                0\n                Shares
URL:https://evolveproject.org/event/ai-in-libraries-unlocking-innovation-access-engagement/
CATEGORIES:Conference
END:VEVENT
END:VCALENDAR