BEGIN:VCALENDAR
VERSION:2.0
PRODID:-//Evolve Project - ECPv6.3.3.1//NONSGML v1.0//EN
CALSCALE:GREGORIAN
METHOD:PUBLISH
X-WR-CALNAME:Evolve Project
X-ORIGINAL-URL:https://evolveproject.org
X-WR-CALDESC:Events for Evolve Project
REFRESH-INTERVAL;VALUE=DURATION:PT1H
X-Robots-Tag:noindex
X-PUBLISHED-TTL:PT1H
BEGIN:VTIMEZONE
TZID:America/Chicago
BEGIN:DAYLIGHT
TZOFFSETFROM:-0600
TZOFFSETTO:-0500
TZNAME:CDT
DTSTART:20240310T080000
END:DAYLIGHT
BEGIN:STANDARD
TZOFFSETFROM:-0500
TZOFFSETTO:-0600
TZNAME:CST
DTSTART:20241103T070000
END:STANDARD
END:VTIMEZONE
BEGIN:VEVENT
DTSTART;TZID=America/Chicago:20240627T130000
DTEND;TZID=America/Chicago:20240627T140000
DTSTAMP:20260425T083549
CREATED:20240408T162644Z
LAST-MODIFIED:20240627T172822Z
UID:1705-1719493200-1719496800@evolveproject.org
SUMMARY:Internet of Things
DESCRIPTION:https://mdtechconnect.org/md-tech-connect-extended/ \nDiscover the transformative potential of the Internet of Things (IoT) in library environments. This session delves into how IoT technologies can revolutionize library services and enhance user experiences. Attendees will explore practical applications of IoT in libraries\, such as smart library spaces\, sensor-based resource management\, and personalized user interactions. Gain insights into the benefits and challenges of implementing IoT solutions in libraries and discuss future trends shaping the IoT landscape in the library sector. \nKey Points: \n \n\nUnderstanding the concept and significance of the Internet of Things (IoT) in libraries.\nPractical applications of IoT technologies: smart library spaces\, sensor-based resource management\, and more.\nEnhancing user experiences through personalized interactions and dynamic services powered by IoT.\nBenefits and challenges of implementing IoT solutions in library environments.\nExploring future trends and innovations in IoT that will shape the future of libraries.\n\n\n    \n\n		\n            \n                0\n                Shares
URL:https://evolveproject.org/event/internet-of-things/
CATEGORIES:Webinar
END:VEVENT
END:VCALENDAR