BEGIN:VCALENDAR
VERSION:2.0
PRODID:-//Evolve Project - ECPv6.3.3.1//NONSGML v1.0//EN
CALSCALE:GREGORIAN
METHOD:PUBLISH
X-ORIGINAL-URL:https://evolveproject.org
X-WR-CALDESC:Events for Evolve Project
REFRESH-INTERVAL;VALUE=DURATION:PT1H
X-Robots-Tag:noindex
X-PUBLISHED-TTL:PT1H
BEGIN:VTIMEZONE
TZID:America/Chicago
BEGIN:DAYLIGHT
TZOFFSETFROM:-0600
TZOFFSETTO:-0500
TZNAME:CDT
DTSTART:20240310T080000
END:DAYLIGHT
BEGIN:STANDARD
TZOFFSETFROM:-0500
TZOFFSETTO:-0600
TZNAME:CST
DTSTART:20241103T070000
END:STANDARD
END:VTIMEZONE
BEGIN:VEVENT
DTSTART;TZID=America/Chicago:20240612T110000
DTEND;TZID=America/Chicago:20240612T120000
DTSTAMP:20260425T065833
CREATED:20240408T162644Z
LAST-MODIFIED:20240611T195720Z
UID:1703-1718190000-1718193600@evolveproject.org
SUMMARY:Harnessing Innovation: Making Libraries a Haven for All Ages with Assistive Tech
DESCRIPTION:https://floridalibrarywebinars.org/event/harnessing-innovation-making-libraries-a-haven-for-all-ages-with-assistive-tech/  \n \nEver thought about how a library can transform lives with just a bit of tech magic? Join Brian Pichman from the Evolve Project\, in this groundbreaking webinar that’s all about pushing boundaries with assistive technology in our libraries. We’re not just talking books and databases here; we’re exploring cutting-edge tools and creative approaches to turn libraries into inclusive havens for everyone\, including those navigating the challenges of dementia and Alzheimer’s Its important we start building more of these types of technologies in our library spaces to not only support those who require assistive technologies and tools\, but also the caregivers that support those individuals. \n\n    \n\n		\n            \n                0\n                Shares
URL:https://evolveproject.org/event/harnessing-innovation-making-libraries-a-haven-for-all-ages-with-assistive-tech/
CATEGORIES:Webinar
END:VEVENT
BEGIN:VEVENT
DTSTART;TZID=America/Chicago:20240613T121500
DTEND;TZID=America/Chicago:20240613T131500
DTSTAMP:20260425T065833
CREATED:20240408T162644Z
LAST-MODIFIED:20240613T164926Z
UID:1704-1718280900-1718284500@evolveproject.org
SUMMARY:Making AI Work For You
DESCRIPTION:https://floridalibrarytraining.com/ \nAs AI continues to evolve\, there are more and more opportunities to use it within your environments and everyday work life. In fact\, you probably have been using some form of AI over the last 10 years.  This session is focused on highlighting some key products that allow a very “turnkey” approach to AI — whether that’s firing up chatbots\, looking at your data to analyze and automate\, or even AI to help you become a more efficient library leader.  Brian Pichman of the Evolve Project will share some his favorite tools to not only increase productivity but harness AI in a responsible and ethical way. \n\n    \n\n		\n            \n                0\n                Shares
URL:https://evolveproject.org/event/making-ai-work-for-you/
CATEGORIES:Webinar
END:VEVENT
BEGIN:VEVENT
DTSTART;TZID=America/Chicago:20240627T130000
DTEND;TZID=America/Chicago:20240627T140000
DTSTAMP:20260425T065833
CREATED:20240408T162644Z
LAST-MODIFIED:20240627T172822Z
UID:1705-1719493200-1719496800@evolveproject.org
SUMMARY:Internet of Things
DESCRIPTION:https://mdtechconnect.org/md-tech-connect-extended/ \nDiscover the transformative potential of the Internet of Things (IoT) in library environments. This session delves into how IoT technologies can revolutionize library services and enhance user experiences. Attendees will explore practical applications of IoT in libraries\, such as smart library spaces\, sensor-based resource management\, and personalized user interactions. Gain insights into the benefits and challenges of implementing IoT solutions in libraries and discuss future trends shaping the IoT landscape in the library sector. \nKey Points: \n \n\nUnderstanding the concept and significance of the Internet of Things (IoT) in libraries.\nPractical applications of IoT technologies: smart library spaces\, sensor-based resource management\, and more.\nEnhancing user experiences through personalized interactions and dynamic services powered by IoT.\nBenefits and challenges of implementing IoT solutions in library environments.\nExploring future trends and innovations in IoT that will shape the future of libraries.\n\n\n    \n\n		\n            \n                0\n                Shares
URL:https://evolveproject.org/event/internet-of-things/
CATEGORIES:Webinar
END:VEVENT
END:VCALENDAR