BEGIN:VCALENDAR
VERSION:2.0
PRODID:-//Evolve Project - ECPv6.3.3.1//NONSGML v1.0//EN
CALSCALE:GREGORIAN
METHOD:PUBLISH
X-ORIGINAL-URL:https://evolveproject.org
X-WR-CALDESC:Events for Evolve Project
REFRESH-INTERVAL;VALUE=DURATION:PT1H
X-Robots-Tag:noindex
X-PUBLISHED-TTL:PT1H
BEGIN:VTIMEZONE
TZID:America/Chicago
BEGIN:DAYLIGHT
TZOFFSETFROM:-0600
TZOFFSETTO:-0500
TZNAME:CDT
DTSTART:20250309T080000
END:DAYLIGHT
BEGIN:STANDARD
TZOFFSETFROM:-0500
TZOFFSETTO:-0600
TZNAME:CST
DTSTART:20251102T070000
END:STANDARD
END:VTIMEZONE
BEGIN:VEVENT
DTSTART;TZID=America/Chicago:20250224T170000
DTEND;TZID=America/Chicago:20250224T190000
DTSTAMP:20260424T154440
CREATED:20250205T182014Z
LAST-MODIFIED:20250224T191213Z
UID:2545-1740416400-1740423600@evolveproject.org
SUMMARY:Harnessing the Power of AI: Practical Applications for Adults
DESCRIPTION:Explore the transformative potential of artificial intelligence with Brian Pichman in this engaging ses­sion designed to empower you with one of the latest tools. Brian will demystify AI\, showcasing its practical applications across various fields. Discover how AI can be a powerful tool in your arsenal\, from enhanc­ing business operations to improving daily life. Learn about the latest AI technologies\, how to implement them\, and the ethical considerations involved. This talk is perfect for anyone looking to understand and leverage AI for personal or professional growth. You will learn how to utilize AI to create an outline\, write a letter\, take meeting notes and organize them\, and how you can also use AI for fun such as creating a vacation itinerary. This class will meet in a computer lab so that you can have hands-on practice and experience working with artificial intelligence. \n\n    \n\n		\n            \n                0\n                Shares
URL:https://evolveproject.org/event/harnessing-the-power-of-ai-practical-applications-for-adults/
CATEGORIES:Workshop
END:VEVENT
END:VCALENDAR